BEGIN:VCALENDAR
VERSION:2.0
PRODID:-//George Mason&#039;s Gunston Hall - ECPv6.15.17.1//NONSGML v1.0//EN
CALSCALE:GREGORIAN
METHOD:PUBLISH
X-WR-CALNAME:George Mason&#039;s Gunston Hall
X-ORIGINAL-URL:https://gunstonhall.org
X-WR-CALDESC:Events for George Mason&#039;s Gunston Hall
REFRESH-INTERVAL;VALUE=DURATION:PT1H
X-Robots-Tag:noindex
X-PUBLISHED-TTL:PT1H
BEGIN:VTIMEZONE
TZID:America/New_York
BEGIN:DAYLIGHT
TZOFFSETFROM:-0500
TZOFFSETTO:-0400
TZNAME:EDT
DTSTART:20250309T070000
END:DAYLIGHT
BEGIN:STANDARD
TZOFFSETFROM:-0400
TZOFFSETTO:-0500
TZNAME:EST
DTSTART:20251102T060000
END:STANDARD
BEGIN:DAYLIGHT
TZOFFSETFROM:-0500
TZOFFSETTO:-0400
TZNAME:EDT
DTSTART:20260308T070000
END:DAYLIGHT
BEGIN:STANDARD
TZOFFSETFROM:-0400
TZOFFSETTO:-0500
TZNAME:EST
DTSTART:20261101T060000
END:STANDARD
BEGIN:DAYLIGHT
TZOFFSETFROM:-0500
TZOFFSETTO:-0400
TZNAME:EDT
DTSTART:20270314T070000
END:DAYLIGHT
BEGIN:STANDARD
TZOFFSETFROM:-0400
TZOFFSETTO:-0500
TZNAME:EST
DTSTART:20271107T060000
END:STANDARD
END:VTIMEZONE
BEGIN:VEVENT
DTSTART;TZID=America/New_York:20260911T180000
DTEND;TZID=America/New_York:20260911T210000
DTSTAMP:20260420T150153
CREATED:20260114T191852Z
LAST-MODIFIED:20260124T155602Z
UID:2040-1789149600-1789160400@gunstonhall.org
SUMMARY:Cocktails by Candlelight: Fall
DESCRIPTION:Cocktails by Candlelight is now a series! \nWe’re expanding our much-beloved program to four events throughout the year.  In the spring and fall\, join us for the event you know and love.  In the winter\, roll in for a Game Night to light up the dark and\, in the summer\, you can meander through the flowers for our Garden Party.  \nJoin us for the event that sparked the Series: Cocktails by Candlelight.  Sip on period cocktails and sample historic foods while you enjoy the serenity of Mason Neck by candlelight.  Situated in the heart of the historic property\, this event offers the perfect opportunity to relax with friends and loved ones. \nParticipants must be 21 or older. \nRegistration\nSeries Package\nSeries packages are available for both individuals and for two people until May 1st. Click on “Series Package” above and add two tickets to your cart to get the discounted dual package price. \nThe package includes admission to:\nGame Night – February 20\nCocktails by Candlelight: Spring – May 1\nGarden Party – July 17\nCocktails by Candlelight: Fall – September 11 \nIndividual Package:\nRegular: $165 – save $35!\nMember: $135 – save $65! \nDual Package:\nRegular: $305 – save $95!\nMember $245 – save$155! \nSingle Event Tickets\nClick on “Single Event Tickets” above to purchase tickets for just the Cocktails by Candlelight: Fall event. \nIndividual $55\nMembers $45 \nTickets will be available at the door the evening of the event if it does not sell out in advance.
URL:https://gunstonhall.org/event/cocktails-by-candlelight-fall-2026/
LOCATION:Gunston Hall\, 10709 Gunston Road\, Mason Neck\, Virginia\, 22079\, United States
CATEGORIES:In Person
ATTACH;FMTTYPE=image/png:https://gunstonhall.org/wp-content/uploads/2026/01/Cocktails-by-Candlelight-OG-Event.png
END:VEVENT
END:VCALENDAR