BEGIN:VCALENDAR
VERSION:2.0
PRODID:-//George Mason&#039;s Gunston Hall - ECPv6.15.17.1//NONSGML v1.0//EN
CALSCALE:GREGORIAN
METHOD:PUBLISH
X-WR-CALNAME:George Mason&#039;s Gunston Hall
X-ORIGINAL-URL:https://gunstonhall.org
X-WR-CALDESC:Events for George Mason&#039;s Gunston Hall
REFRESH-INTERVAL;VALUE=DURATION:PT1H
X-Robots-Tag:noindex
X-PUBLISHED-TTL:PT1H
BEGIN:VTIMEZONE
TZID:America/New_York
BEGIN:DAYLIGHT
TZOFFSETFROM:-0500
TZOFFSETTO:-0400
TZNAME:EDT
DTSTART:20250309T070000
END:DAYLIGHT
BEGIN:STANDARD
TZOFFSETFROM:-0400
TZOFFSETTO:-0500
TZNAME:EST
DTSTART:20251102T060000
END:STANDARD
BEGIN:DAYLIGHT
TZOFFSETFROM:-0500
TZOFFSETTO:-0400
TZNAME:EDT
DTSTART:20260308T070000
END:DAYLIGHT
BEGIN:STANDARD
TZOFFSETFROM:-0400
TZOFFSETTO:-0500
TZNAME:EST
DTSTART:20261101T060000
END:STANDARD
BEGIN:DAYLIGHT
TZOFFSETFROM:-0500
TZOFFSETTO:-0400
TZNAME:EDT
DTSTART:20270314T070000
END:DAYLIGHT
BEGIN:STANDARD
TZOFFSETFROM:-0400
TZOFFSETTO:-0500
TZNAME:EST
DTSTART:20271107T060000
END:STANDARD
END:VTIMEZONE
BEGIN:VEVENT
DTSTART;TZID=America/New_York:20260426T093000
DTEND;TZID=America/New_York:20260426T150000
DTSTAMP:20260425T163122
CREATED:20260114T181859Z
LAST-MODIFIED:20260330T200746Z
UID:10000047-1777195800-1777215600@gunstonhall.org
SUMMARY:Britain on the Green
DESCRIPTION:The Capital Triumph Register is proud to announce that the club’s annual Britain on the Green (BOG) which will be held again at the scenic and historical Gunston Hall\, the colonial home of Revolutionary War patriot George Mason\, which overlooks the Potomac River. BOG welcomes all British marques of cars and motorcycles. BOG is the premier all-British show in the greater metropolitan DC area. All visitors to the show are welcome. \nShow Registration \nParticipants who wish to register their British cars in the show should visit britainonthegreen.org. \nSpectator Tickets\n\n\n\nRegular Admission \nAdult: $10\nChild: $5\nChild Under 5: Complimentary\nMember Admission \nAdult: Complimentary\nChild: Complimentary\nChild Under 5: Complimentary\n\n\n\n 
URL:https://gunstonhall.org/event/britain-on-the-green/
LOCATION:Gunston Hall\, 10709 Gunston Road\, Mason Neck\, Virginia\, 22079\, United States
CATEGORIES:In Person
ATTACH;FMTTYPE=image/jpeg:https://gunstonhall.org/wp-content/uploads/2026/01/BOG-2026.jpg
END:VEVENT
END:VCALENDAR